BEGIN:VCALENDAR
VERSION:2.0
PRODID:-//Lemon Consult - ECPv6.15.20//NONSGML v1.0//EN
CALSCALE:GREGORIAN
METHOD:PUBLISH
X-ORIGINAL-URL:https://lemonconsult.be
X-WR-CALDESC:Evenementen voor Lemon Consult
REFRESH-INTERVAL;VALUE=DURATION:PT1H
X-Robots-Tag:noindex
X-PUBLISHED-TTL:PT1H
BEGIN:VTIMEZONE
TZID:Europe/Brussels
BEGIN:DAYLIGHT
TZOFFSETFROM:+0100
TZOFFSETTO:+0200
TZNAME:CEST
DTSTART:20220327T010000
END:DAYLIGHT
BEGIN:STANDARD
TZOFFSETFROM:+0200
TZOFFSETTO:+0100
TZNAME:CET
DTSTART:20221030T010000
END:STANDARD
BEGIN:DAYLIGHT
TZOFFSETFROM:+0100
TZOFFSETTO:+0200
TZNAME:CEST
DTSTART:20230326T010000
END:DAYLIGHT
BEGIN:STANDARD
TZOFFSETFROM:+0200
TZOFFSETTO:+0100
TZNAME:CET
DTSTART:20231029T010000
END:STANDARD
BEGIN:DAYLIGHT
TZOFFSETFROM:+0100
TZOFFSETTO:+0200
TZNAME:CEST
DTSTART:20240331T010000
END:DAYLIGHT
BEGIN:STANDARD
TZOFFSETFROM:+0200
TZOFFSETTO:+0100
TZNAME:CET
DTSTART:20241027T010000
END:STANDARD
BEGIN:DAYLIGHT
TZOFFSETFROM:+0100
TZOFFSETTO:+0200
TZNAME:CEST
DTSTART:20250330T010000
END:DAYLIGHT
BEGIN:STANDARD
TZOFFSETFROM:+0200
TZOFFSETTO:+0100
TZNAME:CET
DTSTART:20251026T010000
END:STANDARD
BEGIN:DAYLIGHT
TZOFFSETFROM:+0100
TZOFFSETTO:+0200
TZNAME:CEST
DTSTART:20260329T010000
END:DAYLIGHT
BEGIN:STANDARD
TZOFFSETFROM:+0200
TZOFFSETTO:+0100
TZNAME:CET
DTSTART:20261025T010000
END:STANDARD
END:VTIMEZONE
BEGIN:VEVENT
DTSTART;TZID=Europe/Brussels:20250619T190000
DTEND;TZID=Europe/Brussels:20250619T210000
DTSTAMP:20260422T140925
CREATED:20241203T091434Z
LAST-MODIFIED:20250610T083302Z
UID:7233-1750359600-1750366800@lemonconsult.be
SUMMARY:Online thema-avond: bewindvoering en zorgvolmacht
DESCRIPTION:Wat als jijzelf op een dag handelingsonbekwaam wordt?\nWat betekent dat voor de zorg van je kind met een beperking? En voor het (toekomstige) woonproject waar je als ouder zo hard aan werkt? \nTijdens de thema-avond van GiPSo op donderdag 19 juni om 19u (online) geeft Kristof van Lemon Consult antwoord op veelgestelde vragen over zorgvolmachten en bewindvoering. Hij helpt je nadenken over belangrijke keuzes en geeft concrete tips om alles goed te regelen voor de toekomst. \nWe staan o.a. stil bij: \n\nWat gebeurt er als je zelf handelingsonbekwaam wordt?\nKan je je partner of kind volmacht geven om jouw rol over te nemen?\nHoe stel je een zorgvolmacht op? Wat moet er zeker in staan?\nKan je ook een zorgvolmacht voor je kind met een beperking afsluiten?\n\nEen niet te missen avond voor iedereen die meebouwt aan een goede toekomst voor zijn kind\, familie of initiatief. \nInschrijven kan via:\nhttps://community.gipso.be/t/gipso-thema-avond-bewindvoering-zorgvolmachten/917
URL:https://lemonconsult.be/event/thema-avond-bewindvoering-zorgvolmachten-handelingsplan/
CATEGORIES:Infosessie
END:VEVENT
BEGIN:VEVENT
DTSTART;TZID=Europe/Brussels:20231118T093000
DTEND;TZID=Europe/Brussels:20231118T160000
DTSTAMP:20260422T140925
CREATED:20230921T073951Z
LAST-MODIFIED:20231016T091801Z
UID:6532-1700299800-1700323200@lemonconsult.be
SUMMARY:Op zoek naar (financiële) zekerheid: Wat na ons? Inspiratiedag – Voor en door ouders
DESCRIPTION:Op zoek naar (financiële) zekerheid – Wat na ons? i.s.m. Gezin en Handicap\n \nInspiratiedag – voor en door ouders\nHoe kan je zorgen voor financiële zekerheid voor je kind\, voor later – als jij er niet meer bent? \nAls ouder lig je wakker van de vraag: ‘wie gaat er voor ons kind zorgen\, als wij er niet meer zijn?’ Je wil er liever niet over nadenken\, want deze vraag is best wel confronterend. Toch is het goed om er tijdig bij stil te staan. Je wil dat je kind\, ook als jij de zorg niet meer kunt opnemen\, comfortabel kan leven en kwaliteitsvolle ondersteuning zal krijgen. Je informeert je over thema’s als erfrecht \, (private) stichting of een maatschap\, bewindvoering\, … Uit jullie verhalen leren wij echter dat er een (grote) kloof is tussen zich goed informeren  en het nemen van initiatieven. Maar ook dat ‘iets’ regelen voor later gemoedsrust kan geven. \nOmdat we jullie op weg willen zetten naar die verdiende ‘gemoedsrust’ organiseren we op zaterdag 18 november in Gent een inspiratiedag ‘Op zoek naar financiële zekerheid – Wat na ons’ voor en door ouders. Speciaal voor ouders van mensen met een handicap – van overal in Vlaanderen. \nReeds vorig jaar organiseerden we een studiedag ‘liefde inblikken’ rond alle aspecten van de vraag ‘Wat na ons?’ in Wijnegem. Deze was echter snel volzet en allesomvattend. Dit najaar willen we ons voor een nieuwe inspiratiedag in Gent focussen op de financiële\, fiscale aspecten van de vraag ‘Wat na ons?’ en deze wat uitdiepen. Opnieuw laten wij ouders\, die één of ander initiatief voor later genomen hebben\, aan het woord. En die initiatieven zijn zeer divers. Daarnaast willen we enkele deskundigen met een specifieke expertise omtrent financiële regelingen en  fiscaliteit uitnodigen om enkele thema’s wat te kaderen . \nWil je dit thema met beide handen vast nemen en je  laten inspireren door ander ouders? Schrijf je dan snel in voor deze inspiratiedag! \n\n\n\n\n\n\n\nWat Na Ons? Schrijf je nu in.\n\n\n\n\n\n\n\nJouw inspiratie dag voor meer gemoedsrust \nHoe kan je zorgen voor financiële zekerheid voor je kind\, voor later – als jij er niet meer bent? Op zaterdag 18 november zetten we in Gent alles voor jou op een rijtje: \n\nWat kan je nu al regelen om je kind later meer financiële zekerheid te bieden?\nWat hebben andere ouders al ondernomen in hun zoektocht naar financiële zekerheid voor hun kind?\n\nWaar en wanneer?\nZaterdag 18 november 2023 van 9.30 tot 16.30 uur\nClemenspoort\, Overwale 3\, 9000 Gent\n(vlakbij de achteruitgang van het station Gent-st-Pieters) \nProgramma\n\n09.00 u: Onthaal met koffie en koek\n09:30 u : Welkom en herkenbare getuigenis van een ouder\n09:40 u. : Op zoek naar financiële zekerheid\n\nWat hebben andere ouders al ondernomen in hun zoektocht naar financiële zekerheid voor hun kind?\nHoe kan een testament een hulpmiddel zijn om een en ander te regelen? Waar moet je op letten bij het opstellen ervan?\nWaar vind je goed advies op maat? Wat kan jouw bank of een onafhankelijk adviesbureau voor jou betekenen?\nWat is een maatschap of stichting? Is dit iets voor jou?\nWat als je als ouder geen netwerk hebt? Kan een stichting bij de KoningBoudewijnStichting perspectief bieden?\n\n\n12.30 u: Broodjeslunch\n13.30 u: Reflectie op de voormiddag door Kristof Delobelle\, expert fiscale en familiale planning bij Lemon Consult.\n\nVoor wie is wat interessant om verder te verkennen?\nWie kan je daarbij helpen?\nWat mag je van een notaris verwachten?\nWelke invloed kan een erfenis of gift hebben op de tegemoetkoming van je zoon of dochter?\n\n\n14.30 u: panel \n\nwe leggen vragen uit het publiek voor aan een panel van experten en ouders\n\n\n16.00 u: Afronding\n16.15 u: Kans tot napraten met bondgenoten\n\nDeze studiedag is een initiatief van Gezin en Handicap vzw.\nKlik hier voor wat meer info en een printklare uitnodiging. \nPraktisch\nInschrijven via: Gezin en Handicap \nNa inschrijving ontvang je een factuur. Graag deze op voorhand betalen. \nDe locatie vlak aan het station Gent-st-Pieters. \nEen printklare uitnodiging vind je hier. \nPrijs\n\n\n\nLeden Gezin en Handicap / KVG – individueel\n€ 45\,00\n\n\nLeden Gezin en Handicap / KVG – per koppel\n€ 60\,00\n\n\nNiet-leden Gezin en Handicap / KVG – individueel\n€ 60\,00\n\n\nNiet-Leden Gezin en Handicap / KVG – per koppel\n€ 75\,00
URL:https://lemonconsult.be/event/op-zoek-naar-financiele-zekerheid-wat-na-ons-inspiratiedag-voor-en-door-ouders/
LOCATION:Clemenspoort\, Overwale 3\, 9000\, 9000\, België
CATEGORIES:Infosessie
END:VEVENT
END:VCALENDAR