BEGIN:VCALENDAR
VERSION:2.0
PRODID:-//Lemon Consult - ECPv6.15.20//NONSGML v1.0//EN
CALSCALE:GREGORIAN
METHOD:PUBLISH
X-WR-CALNAME:Lemon Consult
X-ORIGINAL-URL:https://lemonconsult.be
X-WR-CALDESC:Evenementen voor Lemon Consult
REFRESH-INTERVAL;VALUE=DURATION:PT1H
X-Robots-Tag:noindex
X-PUBLISHED-TTL:PT1H
BEGIN:VTIMEZONE
TZID:Europe/Brussels
BEGIN:DAYLIGHT
TZOFFSETFROM:+0100
TZOFFSETTO:+0200
TZNAME:CEST
DTSTART:20200329T010000
END:DAYLIGHT
BEGIN:STANDARD
TZOFFSETFROM:+0200
TZOFFSETTO:+0100
TZNAME:CET
DTSTART:20201025T010000
END:STANDARD
BEGIN:DAYLIGHT
TZOFFSETFROM:+0100
TZOFFSETTO:+0200
TZNAME:CEST
DTSTART:20210328T010000
END:DAYLIGHT
BEGIN:STANDARD
TZOFFSETFROM:+0200
TZOFFSETTO:+0100
TZNAME:CET
DTSTART:20211031T010000
END:STANDARD
BEGIN:DAYLIGHT
TZOFFSETFROM:+0100
TZOFFSETTO:+0200
TZNAME:CEST
DTSTART:20220327T010000
END:DAYLIGHT
BEGIN:STANDARD
TZOFFSETFROM:+0200
TZOFFSETTO:+0100
TZNAME:CET
DTSTART:20221030T010000
END:STANDARD
END:VTIMEZONE
BEGIN:VEVENT
DTSTART;TZID=Europe/Brussels:20210607T190000
DTEND;TZID=Europe/Brussels:20210607T203000
DTSTAMP:20260422T190919
CREATED:20201228T161051Z
LAST-MODIFIED:20210601T124741Z
UID:4053-1623092400-1623097800@lemonconsult.be
SUMMARY:Fiscale en familiale planning
DESCRIPTION:Fiscale en familiale planning.\nWij vinden dat mensen hard moeten werken voor hun geld. \nOnze missie is om ervoor te zorgen dat je fiscaal en financieel alle mogelijkheden benut die er voor handen zijn. \nOp vlak van je inkomen\, je pensioen- en vermogensopbouw en bij een plots overlijden. \nOnafhankelijk advies is hierbij cruciaal. \nBen jij zeker dat je op vandaag je volledige potentieel benut? \nWe lichten dit graag verder toe. \n  \nDeze sessie gaat online door. We sturen je vooraf per mail een link waarop je dient te klikken. \nAlles start dan automatisch op. Je kan reeds inloggen vanaf 19u en om 19u15 stipt starten we. \nWe eindigen om 20u15 met nog ruimte voor vragen nadien. \n  \nWe starten om 19u15 (stipt) en eindigen om 20u30. \nLocatie: online via zoom meeting
URL:https://lemonconsult.be/event/fiscale-en-familiale-planning-8/
LOCATION:online
CATEGORIES:Infosessie
END:VEVENT
BEGIN:VEVENT
DTSTART;TZID=Europe/Brussels:20210429T190000
DTEND;TZID=Europe/Brussels:20210429T203000
DTSTAMP:20260422T190919
CREATED:20201228T160546Z
LAST-MODIFIED:20210218T083530Z
UID:4049-1619722800-1619728200@lemonconsult.be
SUMMARY:Fiscale en familiale planning
DESCRIPTION:Fiscale en familiale planning.\nWij vinden dat mensen hard moeten werken voor hun geld. \nOnze missie is om ervoor te zorgen dat je fiscaal en financieel alle mogelijkheden benut die er voor handen zijn. \nOp vlak van je inkomen\, je pensioen- en vermogensopbouw en bij een plots overlijden. \nOnafhankelijk advies is hierbij cruciaal. \nBen jij zeker dat je op vandaag je volledige potentieel benut? \nWe lichten dit graag verder toe. \n  \nDeze sessie gaat online door. We sturen je vooraf per mail een link waarop je dient te klikken. \nAlles start dan automatisch op. Je kan reeds inloggen vanaf 19u en om 19u15 stipt starten we. \nWe eindigen om 20u15 met nog ruimte voor vragen nadien. \n  \nWe starten om 19u15 (stipt) en eindigen om 20u30. \nLocatie: online via zoom meeting
URL:https://lemonconsult.be/event/fiscale-en-familiale-planning-6/
LOCATION:online
CATEGORIES:Infosessie
END:VEVENT
BEGIN:VEVENT
DTSTART;TZID=Europe/Brussels:20210315T190000
DTEND;TZID=Europe/Brussels:20210315T203000
DTSTAMP:20260422T190919
CREATED:20201228T160411Z
LAST-MODIFIED:20210119T122519Z
UID:4046-1615834800-1615840200@lemonconsult.be
SUMMARY:Fiscale en familiale planning
DESCRIPTION:Fiscale en familiale planning.\nWij vinden dat mensen hard moeten werken voor hun geld. \nOnze missie is om ervoor te zorgen dat je fiscaal en financieel alle mogelijkheden benut die er voor handen zijn. \nOp vlak van je inkomen\, je pensioen- en vermogensopbouw en bij een plots overlijden. \nOnafhankelijk advies is hierbij cruciaal. \nBen jij zeker dat je op vandaag je volledige potentieel benut? \nWe lichten dit graag verder toe. \n  \nDeze sessie gaat online door. We sturen je vooraf per mail een link waarop je dient te klikken. \nAlles start dan automatisch op. Je kan reeds inloggen vanaf 19u en om 19u15 stipt starten we. \nWe eindigen om 20u15 met nog ruimte voor vragen nadien. \n  \nWe starten om 19u15 (stipt) en eindigen om 20u30. \nLocatie: online via zoom meeting
URL:https://lemonconsult.be/event/fiscale-en-familiale-planning-5/
LOCATION:online
CATEGORIES:Infosessie
END:VEVENT
BEGIN:VEVENT
DTSTART;TZID=Europe/Brussels:20210218T190000
DTEND;TZID=Europe/Brussels:20210218T203000
DTSTAMP:20260422T190919
CREATED:20201228T160217Z
LAST-MODIFIED:20210119T122414Z
UID:4044-1613674800-1613680200@lemonconsult.be
SUMMARY:Fiscale en familiale planning
DESCRIPTION:Fiscale en familiale planning.\nWij vinden dat mensen hard moeten werken voor hun geld. \nOnze missie is om ervoor te zorgen dat je fiscaal en financieel alle mogelijkheden benut die er voor handen zijn. \nOp vlak van je inkomen\, je pensioen- en vermogensopbouw en bij een plots overlijden. \nOnafhankelijk advies is hierbij cruciaal. \nBen jij zeker dat je op vandaag je volledige potentieel benut? \nWe lichten dit graag verder toe. \n  \nDeze sessie gaat online door. We sturen je vooraf per mail een link waarop je dient te klikken. \nAlles start dan automatisch op. Je kan reeds inloggen vanaf 19u en om 19u15 stipt starten we. \nWe eindigen om 20u15 met nog ruimte voor vragen nadien. \n  \nWe starten om 19u15 (stipt) en eindigen om 20u30. \nLocatie: online via zoom meeting
URL:https://lemonconsult.be/event/fiscale-en-familiale-planning-4/
LOCATION:online
CATEGORIES:Infosessie
END:VEVENT
END:VCALENDAR